Workbook

Sheet Data
B3: Audience Insights Finding out about audiences in 2025
H5: Festival
H6: Venue with at least one auditorium with 500+ seats
B7: Organisation name | H7: Venue with fewer than 500 seats
H8: Full year
B9: Organisation type (please select) | H9: 90 days
B11: Please tell me anything I should know about your programme in 2025 e.g. changes in programming patterns, large-scale one-off events etc
B13: How many people attended unticketed events programmed by your organisation in 2025? Also include free, unticketed events (estimate if necessary)
B15: Total tickets sold for your events by other organisations in 2025 and not on your Ticketsolve system
B18: 2025 Total revenue (€)
B19: 2025 Total quantity of tickets sold
B20: 2025 Total unique customers
B22: 2025 Total events
B24: 2025 Size (total tickets put on sale)
B26: 2025 1 visit
B28: 2025 New customers
B30: 2025 No. opted in for email and/or mail
B32: 2024 Total unique customers
B33: No. of 2024 customers also buying in 2025
B35: Social Media | C35: Platform 1 | D35: Platform 2 | H35: Venue with at least one auditorium with 500+ seats
B36: Platform e.g. Facebook, X etc
B37: Full year or 90 days
B38: Reach: no. of unique individuals
B39: Engagement: total no. of interactions
B40: No. of Followers
B42: Spend on social media excluding content creation €
B46: Benchmark calculations: office use only
B47: Organisation name | D47: =C7 -> 0
B48: Organisation type | D48: =C9 -> 0
B49: 2025 Total events | D49: =C22 -> 0
B50: 2025 Total attendance including free events and tickets sold elsewhere | D50: =C19+D13+D15 -> 0
B51: 2025 Tickets put on sale | D51: =C24 -> 0
B52: 2025 How are we doing?: gross ticket income (€) | D52: =C18 -> 0
B53: 2025 How are we doing?: tickets sold | D53: =C19 -> 0
B54: 2025 How are we doing?: % capacity excluding comps | D54: =D53/D51 -> #DIV/0!
B55: 2025 Are we maximising income?: average gross value per ticket sold (€) | D55: =C18/D53 -> #DIV/0!
B56: 2025 Are we maximising income?: average gross annual income per ticket buyer (€) | D56: =C18/C20 -> #DIV/0!
B57: 2025 What percentage of customers have purchased for the first time? | D57: =C28/C20 -> #DIV/0!
B58: 2025 What percentage of customers have I kept? | D58: =C33/C32 -> #DIV/0!
B59: 2025 How engaged are they?: % of ticket buyers purchasing for one event only | D59: =C26/C20 -> #DIV/0!
...

Sheet Insights
A2: Organisation name | B2: =Data!C7 -> 0
A3: Organisation type | B3: 0
A4: 2022
A5: 2022 Total attendance including free events and tickets sold elsewhere | B5: =B6+Data!#REF!+Data!D15 -> #REF!
A6: 2022 How are we doing?: tickets sold | B6: =Data!C19 -> 0
A7: 2022 How are we doing?: % capacity excluding comps | B7: =Data!C19/Data!C24 -> #DIV/0!
A8: 2022 Are we maximising income?: average gross value per ticket sold | B8: =Data!C18/Data!C19 -> #DIV/0!
A9: 2022 Are we maximising income?: average gross annual income per ticket buyer | B9: =Data!C18/Data!#REF! -> #REF!
A10: 2022 What percentage of customers have purchased for the first time? | B10: =Data!C28/Data!#REF! -> #REF!
A11: 2022 What percentage of customers have I kept? | B11: =Data!C33/Data!C32 -> #DIV/0!
A12: 2022 How engaged are they?: % of ticket buyers purchasing for one event only | B12: =Data!C26/Data!#REF! -> #REF!
A13: 2022 Do we have a late booking problem?: % of orders within seven days of the event | B13: =Data!#REF!/Data!#REF! -> #REF!
A14: 2022 How many customers purchasing in this year can we communicate with? | B14: =Data!C30/Data!#REF! -> #REF!
A15: 2019
A16: 2019 Total attendance including free events and tickets sold elsewhere | B16: =B17+Data!D13+Data!#REF! -> #REF!
A17: 2019 How are we doing?: tickets sold | B17: =Data!#REF! -> #REF!
A18: 2019 How are we doing?: % capacity excluding comps | B18: =Data!#REF!/Data!#REF! -> #REF!
A19: 2019 Are we maximising income?: average gross value per ticket sold | B19: =Data!#REF!/Data!#REF! -> #REF!
A20: 2019 Are we maximising income?: average gross annual income per ticket buyer | B20: =Data!#REF!/Data!#REF! -> #REF!
A21: 2019 What percentage of customers have purchased for the first time? | B21: =Data!#REF!/Data!#REF! -> #REF!
A22: 2019 What percentage of customers have I kept? | B22: =Data!#REF!/Data!#REF! -> #REF!
A23: 2019 How engaged are they?: % of ticket buyers purchasing for one event only | B23: =Data!#REF!/Data!#REF! -> #REF!
A24: 2019 Do we have a late booking problem?: % of orders within seven days of the event | B24: =Data!#REF!/Data!#REF! -> #REF!
A25: 2019 How many customers purchasing in this year can we communicate with? | B25: =Data!#REF!/Data!#REF! -> #REF!
